BEGIN:VCALENDAR
VERSION:2.0
PRODID:-//ChamberMaster//Event Calendar 2.0//EN
METHOD:PUBLISH
X-PUBLISHED-TTL:P1H
REFRESH-INTERVAL:P1H
CALSCALE:GREGORIAN
BEGIN:VTIMEZONE
TZID:America/New_York
BEGIN:DAYLIGHT
RRULE:FREQ=YEARLY;BYMONTH=3;BYDAY=2SU
DTSTART:20070101T000000
TZOFFSETFROM:-0500
TZOFFSETTO:-0400
TZNAME:Eastern Daylight Time
END:DAYLIGHT
BEGIN:STANDARD
RRULE:FREQ=YEARLY;BYMONTH=11;BYDAY=1SU
DTSTART:20070101T000000
TZOFFSETFROM:-0400
TZOFFSETTO:-0500
TZNAME:Eastern Standard Time
END:STANDARD
END:VTIMEZONE
BEGIN:VEVENT
DTSTART;TZID=America/New_York:20240803T080000
DTEND;TZID=America/New_York:20240803T103000
X-MICROSOFT-CDO-ALLDAYEVENT:FALSE
SUMMARY:Pancake Breakfast with EAA Chapter 1525
DESCRIPTION:On the first Saturday of each month\, EAA Chapter 1525 will host a pancake breakfast. Enjoy pancakes\, scrambled eggs\, sausage\, coffee and more for $5.00. Profits will be used to provide flight training education and scholarship opportunities for members and community.
X-ALT-DESC;FMTTYPE=text/html:On the first Saturday of each month\, EAA Chapter 1525 will host a pancake breakfast. Enjoy pancakes\, scrambled eggs\, sausage\, coffee and more for $5.00. Profits will be used to provide flight training education and scholarship opportunities for members and community.
LOCATION:1800 Rodney Hitch Blvd Morehead KY 40351
UID:e.1663.1010798
SEQUENCE:3
DTSTAMP:20260421T164845Z
URL:https://business.moreheadchamber.com/eventcalendar/Details/pancake-breakfast-with-eaa-chapter-1525-1162463?sourceTypeId=Hub
END:VEVENT
END:VCALENDAR
