BEGIN:VCALENDAR
VERSION:2.0
PRODID:-//ChamberMaster//Event Calendar 2.0//EN
METHOD:PUBLISH
X-PUBLISHED-TTL:P1H
REFRESH-INTERVAL:P1H
CALSCALE:GREGORIAN
BEGIN:VTIMEZONE
TZID:America/New_York
BEGIN:DAYLIGHT
RRULE:FREQ=YEARLY;BYMONTH=3;BYDAY=2SU
DTSTART:20070101T000000
TZOFFSETFROM:-0500
TZOFFSETTO:-0400
TZNAME:Eastern Daylight Time
END:DAYLIGHT
BEGIN:STANDARD
RRULE:FREQ=YEARLY;BYMONTH=11;BYDAY=1SU
DTSTART:20070101T000000
TZOFFSETFROM:-0400
TZOFFSETTO:-0500
TZNAME:Eastern Standard Time
END:STANDARD
END:VTIMEZONE
BEGIN:VEVENT
DTSTART;TZID=America/New_York:20260612T080000
DTEND;TZID=America/New_York:20260612T160000
X-MICROSOFT-CDO-ALLDAYEVENT:FALSE
SUMMARY:Tee Off for Business: Morehead-Rowan County Chamber of Commerce Golf Scramble Presented by Homeland Real Estate
DESCRIPTION:Get ready for a fantastic day on the greens! The Morehead-Rowan County Chamber of Commerce invites you to our annual Golf Scramble at Eagle Trace Golf Course on June 12\, 2026. Enjoy a day of golf\, networking\, and fun. Whether you're a seasoned golfer or a casual player\, this event is a great opportunity to connect with fellow Chamber members and support our local business community. Stay tuned for registration and sponsorship information.
X-ALT-DESC;FMTTYPE=text/html:<!DOCTYPE html><html><head><title></title></head><body aria-disabled="false"><p>Get ready for a fantastic day on the greens! The Morehead-Rowan County Chamber of Commerce invites you to our annual Golf Scramble at Eagle Trace Golf Course on June 12\, 2026. Enjoy a day of golf\, networking\, and fun. Whether you&#39\;re a seasoned golfer or a casual player\, this event is a great opportunity to connect with fellow Chamber members and support our local business community. Stay tuned for registration and sponsorship information.</p></body></html>
LOCATION:1275 Eagle Drive Morehead KY 40351
UID:e.1663.1442847
SEQUENCE:3
DTSTAMP:20260423T004737Z
URL:https://business.moreheadchamber.com/eventcalendar/Details/tee-off-for-business-morehead-rowan-county-chamber-of-commerce-golf-scramble-presented-by-homeland-real-estate-1708975?sourceTypeId=Hub
END:VEVENT
END:VCALENDAR
