BEGIN:VCALENDAR
VERSION:2.0
PRODID:-//ChamberMaster//Event Calendar 2.0//EN
METHOD:PUBLISH
X-PUBLISHED-TTL:P1H
REFRESH-INTERVAL:P1H
CALSCALE:GREGORIAN
BEGIN:VTIMEZONE
TZID:America/New_York
BEGIN:DAYLIGHT
RRULE:FREQ=YEARLY;BYMONTH=3;BYDAY=2SU
DTSTART:20070101T000000
TZOFFSETFROM:-0500
TZOFFSETTO:-0400
TZNAME:Eastern Daylight Time
END:DAYLIGHT
BEGIN:STANDARD
RRULE:FREQ=YEARLY;BYMONTH=11;BYDAY=1SU
DTSTART:20070101T000000
TZOFFSETFROM:-0400
TZOFFSETTO:-0500
TZNAME:Eastern Standard Time
END:STANDARD
END:VTIMEZONE
BEGIN:VEVENT
DTSTART;TZID=America/New_York:20260507T120000
DTEND;TZID=America/New_York:20260507T130000
X-MICROSOFT-CDO-ALLDAYEVENT:FALSE
SUMMARY:May Membership Luncheon Presented by AirMedCare
DESCRIPTION:Get ready for an engaging afternoon of community connection at the May Membership Luncheon\, proudly presented by AirMedCare. We are honored to welcome this month's guest speakers\, Senator Stephen West and State Representative Richard White to discuss the latest happenings in our state government and how they impact our local businesses. This gathering offers a fantastic opportunity to network with fellow members\, enjoy a great meal\, and stay informed with a crucial legislative update.
X-ALT-DESC;FMTTYPE=text/html:<!DOCTYPE html><html><head><title></title></head><body aria-disabled="false"><p>Get ready for an engaging afternoon of community connection at the May Membership Luncheon\, proudly presented by AirMedCare. We are honored to welcome this month&#39\;s guest speakers\, Senator Stephen West and State Representative Richard White to discuss the latest happenings in our state government and how they impact our local businesses. This gathering offers a fantastic opportunity to network with fellow members\, enjoy a great meal\, and stay informed with a crucial legislative update.</p></body></html>
LOCATION:111 East First Street Morehead KY 40351
UID:e.1663.1442401
SEQUENCE:3
DTSTAMP:20260423T011141Z
URL:https://business.moreheadchamber.com/eventcalendar/Details/may-membership-luncheon-presented-by-airmedcare-1708349?sourceTypeId=Hub
END:VEVENT
END:VCALENDAR
