BEGIN:VCALENDAR
VERSION:2.0
PRODID:-//ChamberMaster//Event Calendar 2.0//EN
METHOD:PUBLISH
X-PUBLISHED-TTL:P1H
REFRESH-INTERVAL:P1H
CALSCALE:GREGORIAN
BEGIN:VTIMEZONE
TZID:America/New_York
BEGIN:DAYLIGHT
RRULE:FREQ=YEARLY;BYMONTH=3;BYDAY=2SU
DTSTART:20070101T000000
TZOFFSETFROM:-0500
TZOFFSETTO:-0400
TZNAME:Eastern Daylight Time
END:DAYLIGHT
BEGIN:STANDARD
RRULE:FREQ=YEARLY;BYMONTH=11;BYDAY=1SU
DTSTART:20070101T000000
TZOFFSETFROM:-0400
TZOFFSETTO:-0500
TZNAME:Eastern Standard Time
END:STANDARD
END:VTIMEZONE
BEGIN:VEVENT
DTSTART;VALUE=DATE:20260515
DTEND;VALUE=DATE:20260516
TRANSP:TRANSPARENT
X-MICROSOFT-CDO-ALLDAYEVENT:TRUE
SUMMARY:Farmers Trade Days at The Landing Strip Campground
DESCRIPTION:📅 Dates: May 15 17\, 2026Location: 621 Airport Rd\, Morehead\, KY ⏰ Time: Friday: Starts around 8:00 AM Saturday: All day Sunday: Until around 6:00 PM \n🛍️ What to Expect Local vendors & small businesses Handmade crafts & goods Farm items & unique finds Food vendors (come hungry 👀) Family-friendly atmosphere Activities like bounce houses & inflatables Buying\, selling\, trading\, and browsing all weekend \n🎉 About the Event Farmers Trade Days is a twice-yearly community event that brings together vendors\, shoppers\, and families from across Eastern Kentucky for a full weekend of shopping\, food\, and fun. \nWhether you're: Looking to shop local Hunting for unique items Supporting small businesses Or just want a fun weekend with the kids\, This is one of those events you don't want to miss.
X-ALT-DESC;FMTTYPE=text/html:<!DOCTYPE html><html><head><title></title></head><body aria-disabled="false"><p>📅 Dates: May 15&ndash\;17\, 2026</p><p>Location: 621 Airport Rd\, Morehead\, KY&nbsp\;</p><p>⏰ Time: Friday: Starts around 8:00 AM Saturday: All day Sunday: Until around 6:00 PM&nbsp\;</p><p><br></p><p>🛍️ What to Expect&nbsp\;</p><p>Local vendors &amp\; small businesses&nbsp\;</p><p>Handmade crafts &amp\; goods&nbsp\;</p><p>Farm items &amp\; unique finds&nbsp\;</p><p>Food vendors (come hungry 👀)&nbsp\;</p><p>Family-friendly atmosphere&nbsp\;</p><p>Activities like bounce houses &amp\; inflatables&nbsp\;</p><p>Buying\, selling\, trading\, and browsing all weekend&nbsp\;</p><p><br></p><p>🎉 About the Event&nbsp\;</p><p>Farmers Trade Days is a twice-yearly community event that brings together vendors\, shoppers\, and families from across Eastern Kentucky for a full weekend of shopping\, food\, and fun.&nbsp\;</p><p><br></p><p>Whether you&rsquo\;re: Looking to shop local Hunting for unique items Supporting small businesses Or just want a fun weekend with the kids\, This is one of those events you don&rsquo\;t want to miss.</p></body></html>
LOCATION:621 Airport Rd Morehead KY 40351
UID:e.1663.1445567
SEQUENCE:3
DTSTAMP:20260423T004458Z
URL:https://business.moreheadchamber.com/eventcalendar/Details/farmers-trade-days-at-the-landing-strip-campground-1712184?sourceTypeId=Hub
END:VEVENT
END:VCALENDAR
